BEGIN:VCALENDAR
VERSION:2.0
PRODID:-//eventon.com NONSGML v1.0//EN
BEGIN:VEVENT
UID:69e5e3ae34d4a
DTSTAMP:20260420T092830
DTSTART:20180128T192200Z
DTEND:20180128T192200Z
TZID:UTC
LOCATION:Sounds of Brazil 204 Varick St\,  New York\,  NY 10014\,  USA
SUMMARY:New York Rum festival 2018
DESCRIPTION: TheRumLab.com is proud to celebrate the 1st New York Rum Festival at S.O.B&#8217;s &#8211; NYC\,  New York. This year the program is being launched in a boutique style. More than 40 rum expressions will be poured. The USA is considered one of the most important countries for the entire rum[..]\nhttps://ultimaterumguide.com/events/new-york-rum-festival-2018/
URL:https://ultimaterumguide.com/events/new-york-rum-festival-2018/
END:VEVENT
END:VCALENDAR