BEGIN:VCALENDAR
VERSION:2.0
PRODID:-//eventon.com NONSGML v1.0//EN
BEGIN:VEVENT
UID:69e60e841a0e7
DTSTAMP:20260420T123116
DTSTART:20180928T184500Z
DTEND:20180929T184500Z
TZID:UTC
LOCATION:Ottakringer Brauerei Ottakringer Platz 1\,  1160 Wien\,  Austria
SUMMARY:Vienna Rum Festival 2018
DESCRIPTION: Link: www.rumfestival.at\nhttps://ultimaterumguide.com/events/vienna-rum-festival-2018/
URL:https://ultimaterumguide.com/events/vienna-rum-festival-2018/
END:VEVENT
END:VCALENDAR