BEGIN:VCALENDAR
VERSION:2.0
PRODID:-//eventon.com NONSGML v1.0//EN
BEGIN:VEVENT
UID:69e60e7a8e81d
DTSTAMP:20260420T123106
DTSTART:20180518
DTEND:20180518
TZID:UTC
LOCATION:The Open Bank Plain\,  Norwich NR2 4SF\,  UK
SUMMARY:Rum Festival Norwich 2018
DESCRIPTION: Links: www.therumfestival.co.uk / Facebook / Twitter / Instagram / Pinterest\nhttps://ultimaterumguide.com/events/rum-festival-norwich-2018/
URL:https://ultimaterumguide.com/events/rum-festival-norwich-2018/
END:VEVENT
END:VCALENDAR