BEGIN:VCALENDAR
VERSION:2.0
PRODID:-//eventon.com NONSGML v1.0//EN
BEGIN:VEVENT
UID:69e5fd781d5fa
DTSTAMP:20260420T111832
DTSTART:20180602
DTEND:20180602
TZID:UTC
LOCATION:Pakhuis West Elementenstraat 25\,  1014 AR 
SUMMARY:Club Rum festival Amsterdam 2018
DESCRIPTION: After the successful first edition of Club Rum we are happy to announce that there will be a second edition! We hope to welcome you again on Saturday\,  June 2nd 2018. If you were not there the first time\,  you should already put a placeholder for this date in your[..]\nhttps://ultimaterumguide.com/events/club-rum-festival-amsterdam-2018/
URL:https://ultimaterumguide.com/events/club-rum-festival-amsterdam-2018/
END:VEVENT
END:VCALENDAR