BEGIN:VCALENDAR
VERSION:2.0
PRODID:-//eventon.com NONSGML v1.0//EN
BEGIN:VEVENT
UID:69e6231a6f300
DTSTAMP:20260420T135906
DTSTART:20180618
DTEND:20180619
TZID:UTC
LOCATION:Dockside Darling Harbour Sydney
SUMMARY:The Drinks Industry Show 2018
DESCRIPTION: This years’ Drinks Industry Show promises to offer more. The industry is forever changing. This year we promise to deliver an event full of innovative products\,  new opportunities\,  exclusive taste testings\,  state-of-the-art workshops\,  game-changing suppliers\,  live music\,  and more. There is something for everyone at this year’s Drinks Industry Show. Relocating[..]\nhttps://ultimaterumguide.com/events/the-drinks-industry-show-2018/
URL:https://ultimaterumguide.com/events/the-drinks-industry-show-2018/
END:VEVENT
END:VCALENDAR