BEGIN:VCALENDAR
VERSION:2.0
PRODID:-//eventon.com NONSGML v1.0//EN
BEGIN:VEVENT
UID:69e62318670ce
DTSTAMP:20260420T135904
DTSTART:20180630
DTEND:20180701
TZID:UTC
LOCATION:The Cuban Embassy 23 St Mary's Row\,  West Midlands\,  Birmingham\,  Birmingham B13 8HW\,  UK
SUMMARY:Rum Festival Birmingham 2018
DESCRIPTION: Meet the people\,  hear the stories and discover the rich heritage of rum. 2018 marks the 3rd anniversary of Birmingham Rum Festival. Since the idea was born back in 2015\,  we’ve invited people to take a fresh look at rum\,  highlighting the flavours and histories behind each brand and bottle. After[..]\nhttps://ultimaterumguide.com/events/rum-festival-birmingham-2018/
URL:https://ultimaterumguide.com/events/rum-festival-birmingham-2018/
END:VEVENT
END:VCALENDAR