BEGIN:VCALENDAR
VERSION:2.0
PRODID:-//eventon.com NONSGML v1.0//EN
BEGIN:VEVENT
UID:69e5f71ff3382
DTSTAMP:20260420T105127
DTSTART:20180908
DTEND:20180908
TZID:UTC
LOCATION:SOMArts Cultural Center 934 Brannan St\,  San Francisco\,  CA 94103\,  USA
SUMMARY:California Rum Festival 2018
DESCRIPTION: Links: www.midwestrumfest.com / Facebook / Twitter / Instagram / LinkedIn\nhttps://ultimaterumguide.com/events/california-rum-festival-2018/
URL:https://ultimaterumguide.com/events/california-rum-festival-2018/
END:VEVENT
END:VCALENDAR