BEGIN:VCALENDAR
VERSION:2.0
PRODID:-//eventon.com NONSGML v1.0//EN
BEGIN:VEVENT
UID:69e623215bfcb
DTSTAMP:20260420T135913
DTSTART:20180122T154900Z
DTEND:20180122T154900Z
TZID:UTC
LOCATION:La Masía de José Luis Paseo Puerta del Ángel\,  s/n\,  28011 Madrid\,  Spain
SUMMARY:VII INTERNATIONAL RUM CONFERENCE 2018
DESCRIPTION: Links:  www.congresodelron.com www.ronfestival.com Social: Facebook\nhttps://ultimaterumguide.com/events/vii-international-rum-conference-2018/
URL:https://ultimaterumguide.com/events/vii-international-rum-conference-2018/
END:VEVENT
END:VCALENDAR