BEGIN:VCALENDAR
VERSION:2.0
PRODID:-//eventon.com NONSGML v1.0//EN
BEGIN:VEVENT
UID:69e4d16b15598
DTSTAMP:20260419T135819
DTSTART:20180414T152300Z
DTEND:20180414T152300Z
TZID:UTC
LOCATION:Logan Square Auditorium 2539 N Kedzie Blvd\,  Chicago\,  IL 60647\,  USA
SUMMARY:Chicago Rum Festival 2018
DESCRIPTION: TheRumLab.com is proud to celebrate the 4th Chicago Rum Festival (a.k.a Midwest Rum Fest) at Logan Square Auditorium – Chicago\,  Illinois. This year the program is being launched in a boutique style. More than 40 rum expressions will be poured.  The USA is considered one of the most important countries[..]\nhttps://ultimaterumguide.com/events/chicago-rum-festival-2018/
URL:https://ultimaterumguide.com/events/chicago-rum-festival-2018/
END:VEVENT
END:VCALENDAR