BEGIN:VCALENDAR
VERSION:2.0
PRODID:-//eventon.com NONSGML v1.0//EN
BEGIN:VEVENT
UID:69e4d6ab11fd9
DTSTAMP:20260419T142043
DTSTART:20180718T152700Z
DTEND:20180723T152700Z
TZID:UTC
LOCATION:
SUMMARY:Tales of the Cocktail 2018
DESCRIPTION: Craft Your Future Where is your career headed? Join us in New Orleans for the 16th Annual Tales of the Cocktail to find out. Whether you’re new to the business or you’ve been in the spirits game for some time\,  there’s something you can take home from Tales. A new[..]\nhttps://ultimaterumguide.com/events/tales-of-the-cocktail-2018/
URL:https://ultimaterumguide.com/events/tales-of-the-cocktail-2018/
END:VEVENT
END:VCALENDAR