BEGIN:VCALENDAR
VERSION:2.0
PRODID:-//eventon.com NONSGML v1.0//EN
BEGIN:VEVENT
UID:69e5e6d6045d9
DTSTAMP:20260420T094158
DTSTART:20171002T091000Z
DTEND:20171008T091000Z
TZID:UTC
LOCATION:
SUMMARY:London Cocktail Week 2017
DESCRIPTION: London Cocktail Week is the world’s biggest cocktail festival &#8211; a vibrant celebration of our capital’s unrivalled cocktail scene! NEWSFLASH! This year &#8211; London Cocktail Week has gone digital&#8230; No more wristbands\,  no more guidebooks and &#8211; no more queuing! Just buy your tickets\,  download the free DrinkUp.London app\,  enter[..]\nhttps://ultimaterumguide.com/events/london-cocktail-week-2017/
URL:https://ultimaterumguide.com/events/london-cocktail-week-2017/
END:VEVENT
END:VCALENDAR