BEGIN:VCALENDAR
VERSION:2.0
PRODID:-//eventon.com NONSGML v1.0//EN
BEGIN:VEVENT
UID:69e5f73367b62
DTSTAMP:20260420T105147
DTSTART:20170912T081100Z
DTEND:20170912T081100Z
TZID:UTC
LOCATION:Ottakringer Brauerei Ottakringer Platz 1\,  1160 Wien\,  Austria
SUMMARY:Vienna Rum Festival 2017
DESCRIPTION: WHERE: Ottakringer Brauerei\,  Ottakringer Platz 1\,  1160 Wien\,  Austria WHEN: 29-30th september 2017 LINK: www.rumfestival.at\nhttps://ultimaterumguide.com/events/vienna-rum-festival-2017/
URL:https://ultimaterumguide.com/events/vienna-rum-festival-2017/
END:VEVENT
END:VCALENDAR