BEGIN:VCALENDAR
VERSION:2.0
PRODID:-//eventon.com NONSGML v1.0//EN
BEGIN:VEVENT
UID:69e60e882872d
DTSTAMP:20260420T123120
DTSTART:20171015T120000Z
DTEND:20171015T060000Z
TZID:UTC
LOCATION:The Corn Exchange Leeds\,  West Yorkshire\,  LS1 7BR\,  UK
SUMMARY:Leeds Rum Festival 2017
DESCRIPTION: The world&#8217;s most entincing spirit finally has its own festival in the jewel of Yorkshire&#8217;s crown\,  Leeds ​ Born from the passion of 2 Leeds Bartenders\,  Sam Fish of one of Leeds&#8217; longest running institutions Mojo and Daniel Crowther\,  one of the founding fathers of the UK&#8217;s only constantly changing[..]\nhttps://ultimaterumguide.com/events/leeds-rum-festival-2017/
URL:https://ultimaterumguide.com/events/leeds-rum-festival-2017/
END:VEVENT
END:VCALENDAR