BEGIN:VCALENDAR
VERSION:2.0
PRODID:-//eventon.com NONSGML v1.0//EN
BEGIN:VEVENT
UID:69e4d67401382
DTSTAMP:20260419T141948
DTSTART:20171105T144700Z
DTEND:20171106T144700Z
TZID:UTC
LOCATION:The Rum Day Via Watt 15 Milan 20143\,  Italy
SUMMARY:The Rum Day 2017
DESCRIPTION: WHERE: Via Watt 15 Milan 20143\,  Italy WHEN: Sunday\,  November 13th 2016\,  from 12pm till 8pm Monday\,  November 14th 2016\,  from 10am till 8pm Links: www.therumday.com / www.therumday.it Social: Facebook / Youtube / Instagram SOURCE: OFFICIAL WEBSITE\nhttps://ultimaterumguide.com/events/the-rum-day-2017/
URL:https://ultimaterumguide.com/events/the-rum-day-2017/
END:VEVENT
END:VCALENDAR