BEGIN:VCALENDAR
VERSION:2.0
PRODID:-//eventon.com NONSGML v1.0//EN
BEGIN:VEVENT
UID:69e5f729ea170
DTSTAMP:20260420T105137
DTSTART:20170929T143400Z
DTEND:20170930T143400Z
TZID:UTC
LOCATION:Assembly Room 54 George St\,  Edinburgh EH2 2LR 
SUMMARY:The Rum Festival Edinburgh 2017
DESCRIPTION: Assembly Rooms\,  54 George St\,  Edinburgh EH2 2LR WHEN – 30th September – 2nd October 2017 The sessions will run: Friday 30th Sept: Evening Session: 6.30pm – 11.30pm Saturday 1st Oct: Afternoon Session 12.30pm – 5pm Saturday 1st Oct: Evening Session 6.30pm – 11.30pm Sunday 2nd Oct: Afternoon Session 12.30pm[..]\nhttps://ultimaterumguide.com/events/the-rum-festival-edinburgh-2017/
URL:https://ultimaterumguide.com/events/the-rum-festival-edinburgh-2017/
END:VEVENT
END:VCALENDAR