BEGIN:VCALENDAR
VERSION:2.0
PRODID:-//eventon.com NONSGML v1.0//EN
BEGIN:VEVENT
UID:69e5e3a36425a
DTSTAMP:20260420T092819
DTSTART:20170915T142500Z
DTEND:20170916T142500Z
TZID:UTC
LOCATION:New Craven Hall Unit 2\,  Fairfield House\,  New Craven Gate\,  Leeds LS11 5NF\,  UK
SUMMARY:The Rum Festival Leeds 2017
DESCRIPTION: WHERE – New Craven Hall 2 Fairfield House\,  New Craven Gate\,  Leeds\,  LS11 5NF WHEN – 15th and 16th September 2017 The sessions will run: Friday 15th Sept: Evening Session: 6.30pm – 11.30pm Saturday 16th Sept: Afternoon Session 12.30pm – 5pm Saturday 16th Sept: Evening Session 6.30pm – 11.30pm www.therumfestival.co.uk[..]\nhttps://ultimaterumguide.com/events/the-rum-festival-leeds-2017/
URL:https://ultimaterumguide.com/events/the-rum-festival-leeds-2017/
END:VEVENT
END:VCALENDAR