BEGIN:VCALENDAR
VERSION:2.0
PRODID:-//eventon.com NONSGML v1.0//EN
BEGIN:VEVENT
UID:69e5f7356e92f
DTSTAMP:20260420T105149
DTSTART:20171007T131100Z
DTEND:20171008T131100Z
TZID:UTC
LOCATION:Centre Culturel de Spa Rue Servais 8\,  4900 Spa\,  Belgium
SUMMARY:Salon Du Rhum De Belgique 2017
DESCRIPTION: www.salondurhum.be &nbsp;\nhttps://ultimaterumguide.com/events/salon-du-rhum-de-belgique-2017/
URL:https://ultimaterumguide.com/events/salon-du-rhum-de-belgique-2017/
END:VEVENT
END:VCALENDAR