BEGIN:VCALENDAR
VERSION:2.0
PRODID:-//eventon.com NONSGML v1.0//EN
BEGIN:VEVENT
UID:69e4d6b117a3b
DTSTAMP:20260419T142049
DTSTART:20171201T115300Z
DTEND:20171202T115300Z
TZID:UTC
LOCATION:The Business Design Centre 52 Upper St\,  London N1 0QH\,  UK
SUMMARY:The Spirit Show 2017
DESCRIPTION: The Spirit Show London\,  the UK’s first premium spirits tasting event\,  returns to the Business Design Centre\,  Islington\,  London on the 1st & 2nd December. The show will include UNLIMITED tastings from over 300 of the world’s finest spirits. Covering everything from artisan Vodka and craft Whisky\,  alongside micro distillery[..]\nhttps://ultimaterumguide.com/events/the-spirit-show-2017/
URL:https://ultimaterumguide.com/events/the-spirit-show-2017/
END:VEVENT
END:VCALENDAR