BEGIN:VCALENDAR
VERSION:2.0
PRODID:-//eventon.com NONSGML v1.0//EN
BEGIN:VEVENT
UID:69e4c2a6e11d0
DTSTAMP:20260419T125518
DTSTART:20161106T010000Z
DTEND:20161107T010000Z
TZID:UTC
LOCATION:Zappeion Conference Leof. Vasilissis Olgas\,  Athina 105 57\,  Greece
SUMMARY:Athens Rum Festival 2016
DESCRIPTION: We organize the Athens Rum Festival in view of Rum in the Greek market\,  guests will be invited to participate in a rum journey of discovery. rum companies will demonstrate their products to visitors of the event. And that’s not all. The parallel events of the two days include live[..]\nhttps://ultimaterumguide.com/events/athens-rum-festival-2016/
URL:https://ultimaterumguide.com/events/athens-rum-festival-2016/
END:VEVENT
END:VCALENDAR