BEGIN:VCALENDAR
VERSION:2.0
PRODID:-//eventon.com NONSGML v1.0//EN
BEGIN:VEVENT
UID:69e60e863cd45
DTSTAMP:20260420T123118
DTSTART:20170701T010000Z
DTEND:20170701T010000Z
TZID:UTC
LOCATION:The Cuban Embassy 23 St Mary's Row\,  West Midlands\,  Birmingham\,  Birmingham B13 8HW\,  UK
SUMMARY:Birmingham Rum Festival 2017
DESCRIPTION: Birmingham Rum Festival 2017 will feature 120+ delicious rums from around the world… Come and taste your way through a range of different rums: from light to dark\,  from flavoured to spiced. Exotic Rum Cocktails Rum is a very versatile drink. To prove it\,  there will be a host of[..]\nhttps://ultimaterumguide.com/events/birmingham-rum-festival-2017/
URL:https://ultimaterumguide.com/events/birmingham-rum-festival-2017/
END:VEVENT
END:VCALENDAR