BEGIN:VCALENDAR
VERSION:2.0
PRODID:-//eventon.com NONSGML v1.0//EN
BEGIN:VEVENT
UID:69e4d17749491
DTSTAMP:20260419T135831
DTSTART:20171010T010000Z
DTEND:20171011T010000Z
TZID:UTC
LOCATION:Station Berlin Luckenwalder Straße 4-6 10963 Berlin-Kreuzberg
SUMMARY:International Bar and Beverage Trade Show 2017
DESCRIPTION: Since its inception in 2007\,  Bar Convent Berlin has grown into one of the leading international trade fairs for the bar and beverages industry. Each year the “Who’s Who” of this industry’s German and European representatives gather in Berlin to make new contacts\,  find out about new product innovations and[..]\nhttps://ultimaterumguide.com/events/international-bar-and-beverage-trade-show-2017/
URL:https://ultimaterumguide.com/events/international-bar-and-beverage-trade-show-2017/
END:VEVENT
END:VCALENDAR