BEGIN:VCALENDAR
VERSION:2.0
PRODID:-//eventon.com NONSGML v1.0//EN
BEGIN:VEVENT
UID:69e4d6be9aede
DTSTAMP:20260419T142102
DTSTART:20170529T010000Z
DTEND:20170601T010000Z
TZID:UTC
LOCATION:La Masía de José Luis Paseo Puerta del Ángel\,  s/n\,  28011 Madrid\,  Spain
SUMMARY:Madrid Rum Festival 2017
DESCRIPTION: www.congresodelron.com www.ronfestival.com Facebook\nhttps://ultimaterumguide.com/events/madrid-rum-festival-2017/
URL:https://ultimaterumguide.com/events/madrid-rum-festival-2017/
END:VEVENT
END:VCALENDAR