BEGIN:VCALENDAR
VERSION:2.0
PRODID:-//eventon.com NONSGML v1.0//EN
BEGIN:VEVENT
UID:69e6231c78dbd
DTSTAMP:20260420T135908
DTSTART:20170422T010000Z
DTEND:20170424T010000Z
TZID:UTC
LOCATION:Parc Floral de Vincennes Route de la Pyramide\,  75012 Paris\,  France
SUMMARY:Rum Fest Paris 2017
DESCRIPTION: www.rhumfestparis.com\nhttps://ultimaterumguide.com/events/rum-fest-paris-2017/
URL:https://ultimaterumguide.com/events/rum-fest-paris-2017/
END:VEVENT
END:VCALENDAR