BEGIN:VCALENDAR
VERSION:2.0
PRODID:-//eventon.com NONSGML v1.0//EN
BEGIN:VEVENT
UID:69e5f8da6b195
DTSTAMP:20260420T105850
DTSTART:20171103T010000Z
DTEND:20171104T010000Z
TZID:UTC
LOCATION:Alhede Hallerne Trehusevej 7 7470 Karup J\,  Denmark
SUMMARY:Rom & Whisky Festival 2017 Denmark
DESCRIPTION: Links: Web / Facebook\nhttps://ultimaterumguide.com/events/rom-whisky-festival-2017-denmark/
URL:https://ultimaterumguide.com/events/rom-whisky-festival-2017-denmark/
END:VEVENT
END:VCALENDAR