BEGIN:VCALENDAR
VERSION:2.0
PRODID:-//eventon.com NONSGML v1.0//EN
BEGIN:VEVENT
UID:69e4d1690c8cb
DTSTAMP:20260419T135817
DTSTART:20170718T010000Z
DTEND:20170723T010000Z
TZID:UTC
LOCATION:
SUMMARY:Tales of the Cocktail 2017
DESCRIPTION: Craft Your Future Where is your career headed? Join us in New Orleans for the 15th Annual Tales of the Cocktail to find out. Whether you’re new to the business or you’ve been in the spirits game for some time\,  there’s something you can take home from Tales. A new[..]\nhttps://ultimaterumguide.com/events/tales-of-the-cocktail-2017/
URL:https://ultimaterumguide.com/events/tales-of-the-cocktail-2017/
END:VEVENT
END:VCALENDAR