BEGIN:VCALENDAR
VERSION:2.0
PRODID:-//eventon.com NONSGML v1.0//EN
BEGIN:VEVENT
UID:69e4d1670b5b2
DTSTAMP:20260419T135815
DTSTART:20170422T010000Z
DTEND:20170423T010000Z
TZID:UTC
LOCATION:Miami Airport Convention Center 711 NW 72nd Ave\,  Miami\,  FL 33126\,  USA
SUMMARY:Miami Rum Renaissance Festival 2017
DESCRIPTION: RUM ENTHUSIASTS Rum is fun. And rum people are fun people. Let’s discover the very best rums in the world with a spectacular two-day all-inclusive grand tasting. RUMS OF THE WORLD From across the USA\,  the Caribbean\,  Central and South American to the far reaches of the globe\,  sample the[..]\nhttps://ultimaterumguide.com/events/miami-rum-renaissance-festival-2017/
URL:https://ultimaterumguide.com/events/miami-rum-renaissance-festival-2017/
END:VEVENT
END:VCALENDAR