BEGIN:VCALENDAR
VERSION:2.0
PRODID:-//eventon.com NONSGML v1.0//EN
BEGIN:VEVENT
UID:69e5f721e24c4
DTSTAMP:20260420T105129
DTSTART:20170512
DTEND:20170513
TZID:UTC
LOCATION:The Open Bank Plain\,  Norwich NR2 4SF\,  UK
SUMMARY:Rum Festival Norwich 2017
DESCRIPTION: The Rum Festival kicks off its summer season here in Norwich bringing you rum\,  cocktails\,  food and music from around the globe. We will be showcasing over 100 different rums including new and exclusive rums\,  producers and a variety of entertainment. On arrival you will be greeted by one of[..]\nhttps://ultimaterumguide.com/events/rum-festival-norwich-2017/
URL:https://ultimaterumguide.com/events/rum-festival-norwich-2017/
END:VEVENT
END:VCALENDAR