BEGIN:VCALENDAR
VERSION:2.0
PRODID:-//eventon.com NONSGML v1.0//EN
BEGIN:VEVENT
UID:69e623166e982
DTSTAMP:20260420T135902
DTSTART:20170310
DTEND:20170311
TZID:UTC
LOCATION:The Bond Company 180-182 Fazeley St\,  Birmingham B5 5SE
SUMMARY:Rum Festival Birmingham 2017
DESCRIPTION: Spring is in the air!! We know you love Rum in Birmingham – so how many will you try?? The Rum Festival are bringing over 100 rums to Digbeth from all over the world. We’ll also have the best Caribbean and Cuban cocktails\,  food\,  music for you to enjoy. Links:[..]\nhttps://ultimaterumguide.com/events/rum-festival-birmingham-2017/
URL:https://ultimaterumguide.com/events/rum-festival-birmingham-2017/
END:VEVENT
END:VCALENDAR