BEGIN:VCALENDAR
VERSION:2.0
PRODID:-//eventon.com NONSGML v1.0//EN
BEGIN:VEVENT
UID:69e5e3bf689bf
DTSTAMP:20260420T092847
DTSTART:20170224
DTEND:20170226
TZID:UTC
LOCATION:Fort Charlotte Fort Charlotte\,  W Bay St\,  Nassau\,  Bahamas
SUMMARY:Festival Rum Bahamas 2017
DESCRIPTION: Entwined into our adventurous past\,  our vibrant heritage and our charismatic culture\,  RUM flavors our cuisine\,  commerce\,  creativity and celebrations. RUM remembers the romance of the days gone by &#8211; and lives on in our warm\,  welcoming nature as a people. RumBahamas seeks to explore our relationship with this intriguing[..]\nhttps://ultimaterumguide.com/events/festival-rum-bahamas-2017/
URL:https://ultimaterumguide.com/events/festival-rum-bahamas-2017/
END:VEVENT
END:VCALENDAR