BEGIN:VCALENDAR
VERSION:2.0
PRODID:-//eventon.com NONSGML v1.0//EN
BEGIN:VEVENT
UID:69e5ea11f2e67
DTSTAMP:20260420T095545
DTSTART:20161104T010000Z
DTEND:20161105T010000Z
TZID:UTC
LOCATION:Alhede Hallerne Trehusevej 7 7470 Karup J\,  Denmark
SUMMARY:Rom & Whisky Festival 2016 Danmark
DESCRIPTION: Links: Web / Facebook\nhttps://ultimaterumguide.com/events/rom-whisky-festival-2016-danmark/
URL:https://ultimaterumguide.com/events/rom-whisky-festival-2016-danmark/
END:VEVENT
END:VCALENDAR