BEGIN:VCALENDAR
VERSION:2.0
PRODID:-//eventon.com NONSGML v1.0//EN
BEGIN:VEVENT
UID:69e8892197aa3
DTSTAMP:20260422T093857
DTSTART:20161022
DTEND:20161023
TZID:UTC
LOCATION:ILEC Conference Centre 47 Lillie Rd\,  Fulham\,  London SW6 1UD\,  UK
SUMMARY:10th UK RumFest
DESCRIPTION: Official website\nhttps://ultimaterumguide.com/events/10th-uk-rumfest/
URL:https://ultimaterumguide.com/events/10th-uk-rumfest/
END:VEVENT
END:VCALENDAR