BEGIN:VCALENDAR
VERSION:2.0
PRODID:-//eventon.com NONSGML v1.0//EN
BEGIN:VEVENT
UID:69e4d1652a936
DTSTAMP:20260419T135813
DTSTART:20160415T010000Z
DTEND:20160417T010000Z
TZID:UTC
LOCATION:DoubleTree Miami Airport Convention Center 711 NW 72nd Ave\,  Miami\,  FL 33126\,  United States
SUMMARY:8th Annual Miami Rum Festival
DESCRIPTION: Official website\nhttps://ultimaterumguide.com/events/8th-annual-miami-rum-festival/
URL:https://ultimaterumguide.com/events/8th-annual-miami-rum-festival/
END:VEVENT
END:VCALENDAR