BEGIN:VCALENDAR
VERSION:2.0
PRODID:-//eventon.com NONSGML v1.0//EN
BEGIN:VEVENT
UID:69e4d197d5245
DTSTAMP:20260419T135903
DTSTART:20151119T010000Z
DTEND:20151122T010000Z
TZID:UTC
LOCATION:
SUMMARY:Barbados Food & Wine and Rum Festival 2015
DESCRIPTION: Any discussion about rum is a discussion about Barbados\,  and vice versa. It’s been an integral part of the island nation’s heritage\,  history\,  and economy for over 350 years. And in that time\,  Bajan rum has garnered a worldwide reputation as some of the finest\,  silkiest\,  most complex and enjoyable[..]\nhttps://ultimaterumguide.com/events/barbados-food-wine-and-rum-festival-2015/
URL:https://ultimaterumguide.com/events/barbados-food-wine-and-rum-festival-2015/
END:VEVENT
END:VCALENDAR