BEGIN:VCALENDAR
VERSION:2.0
PRODID:-//eventon.com NONSGML v1.0//EN
BEGIN:VEVENT
UID:69e5e3a55fef5
DTSTAMP:20260420T092821
DTSTART:20151010T010000Z
DTEND:20151011T010000Z
TZID:UTC
LOCATION:Casino de Spa Rue Royale 4\,  4900 Spa\,  Belgium
SUMMARY:Salon du Rhum
DESCRIPTION: www.salondurhum.be\nhttps://ultimaterumguide.com/events/salon-du-rhum/
URL:https://ultimaterumguide.com/events/salon-du-rhum/
END:VEVENT
END:VCALENDAR