BEGIN:VCALENDAR
VERSION:2.0
PRODID:-//eventon.com NONSGML v1.0//EN
BEGIN:VEVENT
UID:69e4cf67ecc06
DTSTAMP:20260419T134943
DTSTART:20151003
DTEND:20151004
TZID:UTC
LOCATION:Station Berlin Luckenwalder Straße 4-6 10963 Berlin-Kreuzberg
SUMMARY:Rumfest Berlin 2015
DESCRIPTION: Welcome! 2015 marks the 5th year of the German Rum Festival Berlin – a small anniversary that we would love to celebrate with you\,  our guests and exhibitors! Following our motto „The Color of Sugarcane! – Die Farbe von Zuckerrohr!“ we’re inviting all friends of rum to join us on the 3rd[..]\nhttps://ultimaterumguide.com/events/rumfest-berlin-2015/
URL:https://ultimaterumguide.com/events/rumfest-berlin-2015/
END:VEVENT
END:VCALENDAR