BEGIN:VCALENDAR
VERSION:2.0
PRODID:-//eventon.com NONSGML v1.0//EN
BEGIN:VEVENT
UID:69e4e493b7ad6
DTSTAMP:20260419T152003
DTSTART:20151204T010000Z
DTEND:20151204T010000Z
TZID:UTC
LOCATION:Kentucky Int. Convention Center 
SUMMARY:Midwest Rum Festival 2015
DESCRIPTION: www.midwestrumfest.com\nhttps://ultimaterumguide.com/events/midwest-rum-festival-2015/
URL:https://ultimaterumguide.com/events/midwest-rum-festival-2015/
END:VEVENT
END:VCALENDAR